BEGIN:VCALENDAR
VERSION:2.0
PRODID:-//Maria Lobis - ECPv6.15.14//NONSGML v1.0//EN
CALSCALE:GREGORIAN
METHOD:PUBLISH
X-WR-CALNAME:Maria Lobis
X-ORIGINAL-URL:https://www.maria-lobis.it
X-WR-CALDESC:Veranstaltungen für Maria Lobis
REFRESH-INTERVAL;VALUE=DURATION:PT1H
X-Robots-Tag:noindex
X-PUBLISHED-TTL:PT1H
BEGIN:VTIMEZONE
TZID:Europe/Rome
BEGIN:DAYLIGHT
TZOFFSETFROM:+0100
TZOFFSETTO:+0200
TZNAME:CEST
DTSTART:20250330T010000
END:DAYLIGHT
BEGIN:STANDARD
TZOFFSETFROM:+0200
TZOFFSETTO:+0100
TZNAME:CET
DTSTART:20251026T010000
END:STANDARD
BEGIN:DAYLIGHT
TZOFFSETFROM:+0100
TZOFFSETTO:+0200
TZNAME:CEST
DTSTART:20260329T010000
END:DAYLIGHT
BEGIN:STANDARD
TZOFFSETFROM:+0200
TZOFFSETTO:+0100
TZNAME:CET
DTSTART:20261025T010000
END:STANDARD
BEGIN:DAYLIGHT
TZOFFSETFROM:+0100
TZOFFSETTO:+0200
TZNAME:CEST
DTSTART:20270328T010000
END:DAYLIGHT
BEGIN:STANDARD
TZOFFSETFROM:+0200
TZOFFSETTO:+0100
TZNAME:CET
DTSTART:20271031T010000
END:STANDARD
END:VTIMEZONE
BEGIN:VEVENT
DTSTART;TZID=Europe/Rome:20260303T100000
DTEND;TZID=Europe/Rome:20260331T110000
DTSTAMP:20260423T140435
CREATED:20251113T143644Z
LAST-MODIFIED:20260222T070310Z
UID:7996-1772532000-1774954800@www.maria-lobis.it
SUMMARY:Rückbildungskurs 2026 - Live am Ritten und ONLINE
DESCRIPTION:✨ Rückbildung mit Maria Lobis ✨ \nGönn dir Zeit für dich und deinen Körper!In meinem Rückbildungskurs unterstütze ich dich dabei\, nach der Geburt wieder Kraft aufzubauen\, deinen Beckenboden zu stärken und ein gutes Körpergefühl zurückzugewinnen. In einer warmen\, wertschätzenden Atmosphäre schaffen wir gemeinsam eine wohltuende Auszeit vom Alltag – mit sanften Übungen\, bewusster Atmung und viel Raum für Austausch. \nIch freue mich darauf\, dich auf diesem Weg zu begleiten! 💛 \nStart: 3. März 2026 LIVE am RITTEN und ONLINE ZUTRITT möglich \n5 Einheiten\, jeweils von 10:00 bis 11:00 UhrKosten: 92 €
URL:https://www.maria-lobis.it/event/rueckbildungskurs-2026-live-am-ritten-und-online/
CATEGORIES:Rückbildung,Yoga für Frauen
ATTACH;FMTTYPE=image/jpeg:https://www.maria-lobis.it/wp-content/uploads/image00087.jpeg
END:VEVENT
END:VCALENDAR